BEGIN:VCALENDAR
VERSION:2.0
PRODID:-//Coconino Center for the Arts - ECPv6.15.20//NONSGML v1.0//EN
CALSCALE:GREGORIAN
METHOD:PUBLISH
X-WR-CALNAME:Coconino Center for the Arts
X-ORIGINAL-URL:https://coconinoarts.org
X-WR-CALDESC:Events for Coconino Center for the Arts
REFRESH-INTERVAL;VALUE=DURATION:PT1H
X-Robots-Tag:noindex
X-PUBLISHED-TTL:PT1H
BEGIN:VTIMEZONE
TZID:America/Phoenix
BEGIN:STANDARD
TZOFFSETFROM:-0700
TZOFFSETTO:-0700
TZNAME:MST
DTSTART:20250101T000000
END:STANDARD
END:VTIMEZONE
BEGIN:VEVENT
DTSTART;TZID=America/Phoenix:20260328T110000
DTEND;TZID=America/Phoenix:20260328T120000
DTSTAMP:20260423T004206
CREATED:20260225T235456Z
LAST-MODIFIED:20260225T235456Z
UID:10000687-1774695600-1774699200@coconinoarts.org
SUMMARY:From Ordinary to Extraordinary: Create a Fabulous Pencil Cup!
DESCRIPTION:FREE Youth Arts Workshop Ages 7 – 14 \n\n\n\n\nInspired by the Youth Art Show at CCA\, entitled “From Ordinary to Extraordinary\,” we’ll take a plain old boring pencil cup and make it fabulous\, inspiring\, funny\, silly\, weird\, cute\, or beautiful! We’ve got all the supplies–all that’s needed is your imagination. Will it have colorful patterns\, beads\, googly eyes\, arms and legs? Best of all\, you get to take it home and proudly place it on your desk to hold your creative supplies! \nThis is a free one-hour workshop and no experience is necessary! \nAll supplies are provided. \n\n\nregister
URL:https://coconinoarts.org/event/from-ordinary-to-extraordinary-create-a-fabulous-pencil-cup/2026-03-28/1/
LOCATION:Coconino Center for the Arts\, 2300 North Fort Valley Road\, Flagstaff\, AZ\, 86001\, United States
CATEGORIES:Workshops
ATTACH;FMTTYPE=image/png:https://coconinoarts.org/wp-content/uploads/2026/02/Screenshot-2026-02-19-at-11.43.14-AM.png
ORGANIZER;CN="Coconino Center for the Arts":MAILTO:CCA@creativeflagstaff.org
END:VEVENT
BEGIN:VEVENT
DTSTART;TZID=America/Phoenix:20260328T123000
DTEND;TZID=America/Phoenix:20260328T133000
DTSTAMP:20260423T004206
CREATED:20260225T235456Z
LAST-MODIFIED:20260225T235456Z
UID:10000688-1774701000-1774704600@coconinoarts.org
SUMMARY:From Ordinary to Extraordinary: Create a Fabulous Pencil Cup!
DESCRIPTION:FREE Youth Arts Workshop Ages 7 – 14 \n\n\n\n\nInspired by the Youth Art Show at CCA\, entitled “From Ordinary to Extraordinary\,” we’ll take a plain old boring pencil cup and make it fabulous\, inspiring\, funny\, silly\, weird\, cute\, or beautiful! We’ve got all the supplies–all that’s needed is your imagination. Will it have colorful patterns\, beads\, googly eyes\, arms and legs? Best of all\, you get to take it home and proudly place it on your desk to hold your creative supplies! \nThis is a free one-hour workshop and no experience is necessary! \nAll supplies are provided. \n\n\nregister
URL:https://coconinoarts.org/event/from-ordinary-to-extraordinary-create-a-fabulous-pencil-cup/2026-03-28/2/
LOCATION:Coconino Center for the Arts\, 2300 North Fort Valley Road\, Flagstaff\, AZ\, 86001\, United States
CATEGORIES:Workshops
ATTACH;FMTTYPE=image/png:https://coconinoarts.org/wp-content/uploads/2026/02/Screenshot-2026-02-19-at-11.43.14-AM.png
ORGANIZER;CN="Coconino Center for the Arts":MAILTO:CCA@creativeflagstaff.org
END:VEVENT
END:VCALENDAR