BEGIN:VCALENDAR
VERSION:2.0
PRODID:-//Coconino Center for the Arts - ECPv6.15.20//NONSGML v1.0//EN
CALSCALE:GREGORIAN
METHOD:PUBLISH
X-ORIGINAL-URL:https://coconinoarts.org
X-WR-CALDESC:Events for Coconino Center for the Arts
REFRESH-INTERVAL;VALUE=DURATION:PT1H
X-Robots-Tag:noindex
X-PUBLISHED-TTL:PT1H
BEGIN:VTIMEZONE
TZID:America/Phoenix
BEGIN:STANDARD
TZOFFSETFROM:-0700
TZOFFSETTO:-0700
TZNAME:MST
DTSTART:20250101T000000
END:STANDARD
END:VTIMEZONE
BEGIN:VEVENT
DTSTART;TZID=America/Phoenix:20260307T090000
DTEND;TZID=America/Phoenix:20260307T120000
DTSTAMP:20260423T004240
CREATED:20250725T230457Z
LAST-MODIFIED:20251020T183819Z
UID:10000605-1772874000-1772884800@coconinoarts.org
SUMMARY:Diversifying Funding\, Partnerships & Tax Awareness for Artists & Nonprofits
DESCRIPTION:Diversifying Funding\, Partnerships & Tax Awareness for Artists & Nonprofits \nDate/Time: Saturday\, March 7\, 2026\, 9am-noon \nFREE EVENT; Registration Required \nIn this workshop\, participants will be introduced to diversified funding strategies tailored to today’s evolving federal funding environment. Learn how individual artists can collaborate with 501(c)(3) organizations through fiscal sponsorships\, explore a range of funding opportunities\, and discover approaches to developing collaborative\, accessible\, financially sustainable projects. The session will also cover how to build meaningful\, strategic partnerships to support responsible and successful project execution. Participants will learn a few essentials of the federal tax code regarding those who receive grant monies\, and how tax burdens fluctuate whether the recipient is a non- profit\, a business\, or an individual. This workshop will offer valuable takeaways to prepare grant recipients for filing tax returns. \nregister
URL:https://coconinoarts.org/event/diversifying-funding-partnerships-tax-awareness-for-artists-nonprofits/
LOCATION:Coconino Center for the Arts\, 2300 North Fort Valley Road\, Flagstaff\, AZ\, 86001\, United States
CATEGORIES:Workshops
ATTACH;FMTTYPE=image/png:https://coconinoarts.org/wp-content/uploads/2025/07/Prof-Dev-Workshops-2025-2026-4.png
ORGANIZER;CN="Coconino Center for the Arts":MAILTO:CCA@creativeflagstaff.org
END:VEVENT
END:VCALENDAR