BEGIN:VCALENDAR
VERSION:2.0
PRODID:-//Coconino Center for the Arts - ECPv6.15.20//NONSGML v1.0//EN
CALSCALE:GREGORIAN
METHOD:PUBLISH
X-WR-CALNAME:Coconino Center for the Arts
X-ORIGINAL-URL:https://coconinoarts.org
X-WR-CALDESC:Events for Coconino Center for the Arts
REFRESH-INTERVAL;VALUE=DURATION:PT1H
X-Robots-Tag:noindex
X-PUBLISHED-TTL:PT1H
BEGIN:VTIMEZONE
TZID:America/Phoenix
BEGIN:STANDARD
TZOFFSETFROM:-0700
TZOFFSETTO:-0700
TZNAME:MST
DTSTART:20250101T000000
END:STANDARD
END:VTIMEZONE
BEGIN:VEVENT
DTSTART;TZID=America/Phoenix:20260124T090000
DTEND;TZID=America/Phoenix:20260124T120000
DTSTAMP:20260423T030314
CREATED:20250725T230308Z
LAST-MODIFIED:20260106T212921Z
UID:10000604-1769245200-1769256000@coconinoarts.org
SUMMARY:Board Basics: Bylaws\, Roles\, Development\, and Succession Planning
DESCRIPTION:Board Basics: Bylaws\, Roles\, Development\, and Succession Planning \nDate/Time: Saturday\, January 24\, 2026\, 9am-noon \nFREE EVENT; Registration Required \nLearn the Basics of Nonprofit Board of Directors. This workshop is designed to meet the community’s ongoing demand for Board Development\, focusing on Board member roles and responsibilities\, expectations\, cultivation and recruitment\, organization structure\, policies and procedures\, strategic and succession planning\, and much more. This presentation will offer insight to new and seasoned Board members and nonprofit organizations. \nregister
URL:https://coconinoarts.org/event/board-basics-bylaws-roles-development-and-succession-planning/
LOCATION:Coconino Center for the Arts\, 2300 North Fort Valley Road\, Flagstaff\, AZ\, 86001\, United States
CATEGORIES:Workshops
ATTACH;FMTTYPE=image/png:https://coconinoarts.org/wp-content/uploads/2025/07/Prof-Dev-Workshops-2025-2026-2.png
ORGANIZER;CN="Coconino Center for the Arts":MAILTO:CCA@creativeflagstaff.org
END:VEVENT
END:VCALENDAR