BEGIN:VCALENDAR
VERSION:2.0
PRODID:-//Coconino Center for the Arts - ECPv6.15.20//NONSGML v1.0//EN
CALSCALE:GREGORIAN
METHOD:PUBLISH
X-ORIGINAL-URL:https://coconinoarts.org
X-WR-CALDESC:Events for Coconino Center for the Arts
REFRESH-INTERVAL;VALUE=DURATION:PT1H
X-Robots-Tag:noindex
X-PUBLISHED-TTL:PT1H
BEGIN:VTIMEZONE
TZID:America/Phoenix
BEGIN:STANDARD
TZOFFSETFROM:-0700
TZOFFSETTO:-0700
TZNAME:MST
DTSTART:20250101T000000
END:STANDARD
END:VTIMEZONE
BEGIN:VEVENT
DTSTART;TZID=America/Phoenix:20260506T193000
DTEND;TZID=America/Phoenix:20260506T203000
DTSTAMP:20260423T003839
CREATED:20260414T181104Z
LAST-MODIFIED:20260414T181401Z
UID:10000704-1778095800-1778099400@coconinoarts.org
SUMMARY:Flagstaff Dance Festival
DESCRIPTION:Isolated Incident Performance Group\, Dewell Dance\, Canyon Movement Company\, and Human Nature Dance Theatre \n\n\n\n\nJoin Isolated Incident Performance Group/Dewell Dance\, Canyon Movement Company\, and Human Nature Dance Theatre for a shared evening blending dance\, theatre\, and live music. \nIIPG/Dewell Dance will feature “The Peace They Found\,” a throughline performance exploring themes of change\, loss\, hope\, and peace. Live musicians: Ryan Biter\, Andrea Graves\, Clair Anna Rose\, and Eric Walden. \nCMC will show excerpts from “Flower Moon\,” including: Brea Lengyel\, Danika Rudd\, and Madeline Tilley. \nHNDT/Jayne Lee with Paul Moore.
URL:https://coconinoarts.org/event/flagstaff-dance-festival/
LOCATION:Coconino Center for the Arts\, 2300 North Fort Valley Road\, Flagstaff\, AZ\, 86001\, United States
CATEGORIES:Concerts,Events
ATTACH;FMTTYPE=image/png:https://coconinoarts.org/wp-content/uploads/2026/04/Dance-Festival.png
ORGANIZER;CN="Coconino Center for the Arts":MAILTO:CCA@creativeflagstaff.org
END:VEVENT
END:VCALENDAR