BEGIN:VCALENDAR
VERSION:2.0
PRODID:-//Coconino Center for the Arts - ECPv6.15.20//NONSGML v1.0//EN
CALSCALE:GREGORIAN
METHOD:PUBLISH
X-WR-CALNAME:Coconino Center for the Arts
X-ORIGINAL-URL:https://coconinoarts.org
X-WR-CALDESC:Events for Coconino Center for the Arts
REFRESH-INTERVAL;VALUE=DURATION:PT1H
X-Robots-Tag:noindex
X-PUBLISHED-TTL:PT1H
BEGIN:VTIMEZONE
TZID:America/Phoenix
BEGIN:STANDARD
TZOFFSETFROM:-0700
TZOFFSETTO:-0700
TZNAME:MST
DTSTART:20250101T000000
END:STANDARD
END:VTIMEZONE
BEGIN:VEVENT
DTSTART;TZID=America/Phoenix:20260421T193000
DTEND;TZID=America/Phoenix:20260421T213000
DTSTAMP:20260422T233222
CREATED:20260326T165232Z
LAST-MODIFIED:20260326T165232Z
UID:10000692-1776799800-1776807000@coconinoarts.org
SUMMARY:NAU Middle East Ensemble
DESCRIPTION:Presented by Northern Arizona University and Coconino Center for the Arts \n\n\n\n\nFounded in 2023\, the NAU Middle East Ensemble is a group of twenty Northern Arizona University students\, faculty\, and Flagstaff community members\, directed by Dr. Lillie Gordon. The ensemble performs music from throughout the Middle East. Join us for an evening of lively classic and popular songs and instrumental pieces from Egypt\, Turkey\, Lebanon\, Iran and more. For this performance\, our repertoire focuses on the concepts of love and wind\, two words with a close relationship in Arabic poetry and song lyrics. We are pleased to be joined by world-class guest dancer Carrie Konyha for an extended set. \nThis performance is supported by NAU’s Honors College\, Kitt School of Music\, and College of Arts and Letters\, as well as the Coconino Center for the Arts managed by Creative Flagstaff. \n\n\n\nRead less
URL:https://coconinoarts.org/event/nau-middle-east-ensemble/
LOCATION:Coconino Center for the Arts\, 2300 North Fort Valley Road\, Flagstaff\, AZ\, 86001\, United States
CATEGORIES:Concerts,Events
ATTACH;FMTTYPE=image/jpeg:https://coconinoarts.org/wp-content/uploads/2026/03/Middle-East-Ensemble-01-group-1-scaled.jpg
ORGANIZER;CN="Coconino Center for the Arts":MAILTO:CCA@creativeflagstaff.org
END:VEVENT
END:VCALENDAR