BEGIN:VCALENDAR
VERSION:2.0
PRODID:-//Coconino Center for the Arts - ECPv6.15.20//NONSGML v1.0//EN
CALSCALE:GREGORIAN
METHOD:PUBLISH
X-ORIGINAL-URL:https://coconinoarts.org
X-WR-CALDESC:Events for Coconino Center for the Arts
REFRESH-INTERVAL;VALUE=DURATION:PT1H
X-Robots-Tag:noindex
X-PUBLISHED-TTL:PT1H
BEGIN:VTIMEZONE
TZID:America/Phoenix
BEGIN:STANDARD
TZOFFSETFROM:-0700
TZOFFSETTO:-0700
TZNAME:MST
DTSTART:20250101T000000
END:STANDARD
END:VTIMEZONE
BEGIN:VEVENT
DTSTART;TZID=America/Phoenix:20260313T193000
DTEND;TZID=America/Phoenix:20260313T193000
DTSTAMP:20260423T004305
CREATED:20260205T231916Z
LAST-MODIFIED:20260205T231916Z
UID:10000679-1773430200-1773430200@coconinoarts.org
SUMMARY:Chicken Wire Empire
DESCRIPTION:Buy Tickets\n\n\n\nChicken Wire Empire is a Wisconsin-based bluegrass band known for their dynamic musicality\, thorough arrangements\, and true-to-life songwriting. The band emerged in 2016 with their debut self-titled album and have since released a prolific catalogue of studio projects and live performances. Their sixth and latest album\, Growing Pains\, releases June 1 and is a veritable culmination of the band’s growth through the past decade. \nCWE continuously captivates audiences with thoughtful\, energetic performances. Their high-level musicality turns up a fresh conversation with each show\, like a brainstorm of creative musical substance. Americana Highways writes “These musicians must enjoy what they do because their joy translates through their instruments. The energy\, fingering techniques are all proponents that deliver substance with a modicum of joy. There aren’t any low points\, missteps\, loss of heat in any of these melodies.” \nThe band has been recognized worldwide for their performances and recorded works\, with Americana UK calling their latest album “a variety which transcends genre and rewards careful listening.” Capturing the ever-evolving sights and sounds of the road through the lens of their Midwestern roots\, the band’s catalog of songs is ever-growing and CWE continues to be acknowledged for their pensive attention to detail in writing and crafting deeply engaging songs. \nChicken Wire Empire has partnered with dozens of artists from all corners of the bluegrass genre\, from Sam Bush and Peter Rowan to Vince Herman and Keller Williams. Their forthcoming album features guest appearances from Grammy-winning artists Jerry Douglas and Kyle Tuttle. The long list of collaborators has lent a lifetime of taste and knowledge to CWE’s musical journey while the band has grown into its identifiably authentic yet original sound. \n  \n\n\nSave 10% with membership! Use unique member number at checkout. Household members receive two tickets at a discount and individual members receive one. To learn more about membership and how to find your discount code\, visit: https://www.coconinoarts.org/member-discount
URL:https://coconinoarts.org/event/chicken-wire-empire/
LOCATION:Coconino Center for the Arts\, 2300 North Fort Valley Road\, Flagstaff\, AZ\, 86001\, United States
CATEGORIES:Concerts,Events
ATTACH;FMTTYPE=image/png:https://coconinoarts.org/wp-content/uploads/2026/02/CHICKEN-WIRE-EMPIRE.png
ORGANIZER;CN="Coconino Center for the Arts":MAILTO:CCA@creativeflagstaff.org
END:VEVENT
END:VCALENDAR