BEGIN:VCALENDAR
VERSION:2.0
PRODID:-//Coconino Center for the Arts - ECPv6.15.20//NONSGML v1.0//EN
CALSCALE:GREGORIAN
METHOD:PUBLISH
X-ORIGINAL-URL:https://coconinoarts.org
X-WR-CALDESC:Events for Coconino Center for the Arts
REFRESH-INTERVAL;VALUE=DURATION:PT1H
X-Robots-Tag:noindex
X-PUBLISHED-TTL:PT1H
BEGIN:VTIMEZONE
TZID:America/Phoenix
BEGIN:STANDARD
TZOFFSETFROM:-0700
TZOFFSETTO:-0700
TZNAME:MST
DTSTART:20250101T000000
END:STANDARD
END:VTIMEZONE
BEGIN:VEVENT
DTSTART;TZID=America/Phoenix:20260201T150000
DTEND;TZID=America/Phoenix:20260201T150000
DTSTAMP:20260423T015852
CREATED:20251003T034746Z
LAST-MODIFIED:20251217T080830Z
UID:10000624-1769958000-1769958000@coconinoarts.org
SUMMARY:Chase Coleman: Soundscapes through Time
DESCRIPTION:Buy Tickets\n\nThis program invites you on a musical journey spanning two centuries and bridging two worlds. It explores how composers use deeply personal experiences to create powerful and evocative music\, from the heart-on-sleeve Romanticism of Franz Schubert and Johannes Brahms to the cultural fusion of contemporary Navajo composer Connor Chee\, the jazzy Art Deco elegance of Bix Beiderbecke and the atmospheric Impressionism of Claude Debussy. \nChase Coleman is a Flagstaff-based pianist and music educator known for his versatility in performing both classical and jazz repertoire. An active member of the Southwestern music community\, he has appeared as soloist with Orchestra Northern Arizona\, the Verde Valley Sinfonnietta and as a soloist in performances across the region and internationally. Beyond his performance schedule\, Coleman is also an accomplished composer\, with two original musicals to his name and a third currently in development. He maintains a busy piano studio where he offers lessons and also serves as the organist at Peace Lutheran Church in Flagstaff. He has served on the music faculties of the Boston Conservatory\, Coconino Community College and Flagstaff Arts and Leadership Academy. Coleman received his musical education from Boston University and the University of Massachusetts Lowell. His eclectic artistic sensibility has led him to explore a wide range of musical genres\, from the Renaissance to contemporary classical and jazz works. \nSave 10% with membership! Use unique member number at checkout. Household members receive two tickets at a discount and individual members receive one. To learn more about membership and how to find your discount code\, visit: https://www.coconinoarts.org/member-discount
URL:https://coconinoarts.org/event/chase-coleman-soundscapes-through-time/
LOCATION:Coconino Center for the Arts\, 2300 North Fort Valley Road\, Flagstaff\, AZ\, 86001\, United States
CATEGORIES:Concerts,Events
ATTACH;FMTTYPE=image/png:https://coconinoarts.org/wp-content/uploads/2025/10/CHASE-COLEMAN.png
ORGANIZER;CN="Coconino Center for the Arts":MAILTO:CCA@creativeflagstaff.org
END:VEVENT
END:VCALENDAR