BEGIN:VCALENDAR
VERSION:2.0
PRODID:-//Coconino Center for the Arts - ECPv6.15.20//NONSGML v1.0//EN
CALSCALE:GREGORIAN
METHOD:PUBLISH
X-ORIGINAL-URL:https://coconinoarts.org
X-WR-CALDESC:Events for Coconino Center for the Arts
REFRESH-INTERVAL;VALUE=DURATION:PT1H
X-Robots-Tag:noindex
X-PUBLISHED-TTL:PT1H
BEGIN:VTIMEZONE
TZID:America/Phoenix
BEGIN:STANDARD
TZOFFSETFROM:-0700
TZOFFSETTO:-0700
TZNAME:MST
DTSTART:20250101T000000
END:STANDARD
END:VTIMEZONE
BEGIN:VEVENT
DTSTART;TZID=America/Phoenix:20260131T193000
DTEND;TZID=America/Phoenix:20260131T193000
DTSTAMP:20260423T032110
CREATED:20251223T060605Z
LAST-MODIFIED:20251223T060605Z
UID:10000677-1769887800-1769887800@coconinoarts.org
SUMMARY:Guitar Dreams featuring Jake Allen and Ryan David Green
DESCRIPTION:Buy Tickets\n\nJake Allen has toured globally\, is endorsed by Takamine Guitars\, and has shared stages with guitar legends such as Andy McKee and Mike Dawes. As a solo artist\, Allen utilizes impeccably timed live looping to create a captivating one-man show\, with his hypnotic command of the guitar bringing every inch of the instrument to life. \nRyan David Green has been called “a full blown shredder” by Acoustic Guitar Magazine. A graduate of Boston’s prestigious Berklee College of Music\, his instrumental “Time Is Not What You Think It Is” was awarded 1st place in the 2024 American Songwriter Song Contest and his original compositions have received numerous film and TV placements\, including shows on E!\, Lifetime\, and ABC Family/Freeform. \nTogether\, performing a blend of beautiful instrumental guitar pieces and delicate vocal tunes\, they’ll be taking audiences to a place both otherworldly\, and somehow surprisingly intimate. \n  \nSave 10% with membership! Use unique member number at checkout. Household members receive two tickets at a discount and individual members receive one. To learn more about membership and how to find your discount code\, visit: https://www.coconinoarts.org/member-discount
URL:https://coconinoarts.org/event/guitar-dreams-featuring-jake-allen-and-ryan-david-green/
LOCATION:Coconino Center for the Arts\, 2300 North Fort Valley Road\, Flagstaff\, AZ\, 86001\, United States
CATEGORIES:Concerts,Events
ATTACH;FMTTYPE=image/jpeg:https://coconinoarts.org/wp-content/uploads/2025/12/banner-horizontal-guitar-dreams.jpg
ORGANIZER;CN="Coconino Center for the Arts":MAILTO:CCA@creativeflagstaff.org
END:VEVENT
END:VCALENDAR