BEGIN:VCALENDAR
VERSION:2.0
PRODID:-//Coconino Center for the Arts - ECPv6.15.20//NONSGML v1.0//EN
CALSCALE:GREGORIAN
METHOD:PUBLISH
X-WR-CALNAME:Coconino Center for the Arts
X-ORIGINAL-URL:https://coconinoarts.org
X-WR-CALDESC:Events for Coconino Center for the Arts
REFRESH-INTERVAL;VALUE=DURATION:PT1H
X-Robots-Tag:noindex
X-PUBLISHED-TTL:PT1H
BEGIN:VTIMEZONE
TZID:America/Phoenix
BEGIN:STANDARD
TZOFFSETFROM:-0700
TZOFFSETTO:-0700
TZNAME:MST
DTSTART:20240101T000000
END:STANDARD
END:VTIMEZONE
BEGIN:VEVENT
DTSTART;TZID=America/Phoenix:20251211T193000
DTEND;TZID=America/Phoenix:20251211T193000
DTSTAMP:20260423T031254
CREATED:20251116T033740Z
LAST-MODIFIED:20251116T033806Z
UID:10000670-1765481400-1765481400@coconinoarts.org
SUMMARY:Sihasin
DESCRIPTION:Buy Tickets\n\nMulti-award-winning independent artists and cultural ambassadors Jeneda and Clayson Benally deliver a powerful\, genre-defying sound rooted in their Navajo heritage. With just bass\, drums\, and vocals\, this sibling duo blends traditional Navajo music\, folk\, world\, and post-punk energy to create a unique musical experience that inspires audiences worldwide. Sihasin (pronounced See-ha-sin)\, meaning hope in Navajo\, was formed following their internationally acclaimed band Blackfire. Raised amid forced relocation\, sacred site desecration\, and human rights struggles on the Navajo Nation\, Jeneda and Clayson channel these experiences into music that empowers\, heals\, and advocates for justice. \nSihasin’s music embodies hope\, resilience\, and a strong cultural foundation. In Diné (Navajo) tradition\, music is a tool for healing and unity; Sihasin continues this tradition by inspiring listeners to rise up\, speak out\, and create positive change. \n“Every second they were on stage\, the stage was on fire.” –The Huffington Post \nSave 10% with membership! Use unique member number at checkout. Household members receive two tickets at a discount and individual members receive one. To learn more about membership and how to find your discount code\, visit: https://www.coconinoarts.org/member-discount
URL:https://coconinoarts.org/event/sihasin/
LOCATION:Coconino Center for the Arts\, 2300 North Fort Valley Road\, Flagstaff\, AZ\, 86001\, United States
CATEGORIES:Concerts,Events
ATTACH;FMTTYPE=image/jpeg:https://coconinoarts.org/wp-content/uploads/2025/11/Sihasin-promo.jpg
ORGANIZER;CN="Coconino Center for the Arts":MAILTO:CCA@creativeflagstaff.org
END:VEVENT
BEGIN:VEVENT
DTSTART;TZID=America/Phoenix:20251212T193000
DTEND;TZID=America/Phoenix:20251212T193000
DTSTAMP:20260423T031254
CREATED:20251109T050334Z
LAST-MODIFIED:20251206T043433Z
UID:10000669-1765567800-1765567800@coconinoarts.org
SUMMARY:A Winter's Eve with David Arkenstone & Friends
DESCRIPTION:Buy Tickets\n\nJoin Multi-GRAMMY ® Award Nominee David Arkenstone and six-piece band of virtuoso musicians as he proudly returns to Flagstaff with his enchanting holiday concert A Winter’s Eve with David Arkenstone & Friends. This lively winter celebration of beloved holiday classics “reimagined” joyfully blends world music\, Celtic\, cinematic\, new age\, and neo-classical crossover. David’s concerts captivate audiences each year with seasonal tunes from his treasured holiday albums Celtic Christmas and Christmas Lounge. Experience fan favorites of this magical season to delight and dazzle your holiday senses. \nSince the release of his first album Valley in the Clouds\, David Arkenstone has become one of the most engaging and prolific multi-instrumentalists of our time. With 5 GRAMMY® nominations to date\, over 2 billion streams worldwide\, 70+ albums\, film and TV scores\, gaming scores for World of Warcraft\, David Arkenstone’s music has become the soundtrack to millions of listeners’ lives across the globe. \n“Right up there with greatest concert ever!” ~Dyan Garris\, New Age Notes Radio \n“The most enchanting and magical music ever to be on our stage!” ~Yuma Historic Theatre\, Yuma\, Arizona. \nDavid Arkenstone and his fantastic band absolutely wowed the TLCA audience last year with their amazing Christmas concert event!” ~Tri-Lakes Center for the Arts\, Palmer Lake\, Colorado. \nSave 10% with membership! Use unique member number at checkout. Household members receive two tickets at a discount and individual members receive one. To learn more about membership and how to find your discount code\, visit: https://www.coconinoarts.org/member-discount
URL:https://coconinoarts.org/event/a-winters-eve-with-david-arkenstone-friends-3/
LOCATION:Coconino Center for the Arts\, 2300 North Fort Valley Road\, Flagstaff\, AZ\, 86001\, United States
CATEGORIES:Concerts,Events
ATTACH;FMTTYPE=image/jpeg:https://coconinoarts.org/wp-content/uploads/2025/11/band-collage-2025_wide-1-1-1.jpg
ORGANIZER;CN="Coconino Center for the Arts":MAILTO:CCA@creativeflagstaff.org
END:VEVENT
END:VCALENDAR