BEGIN:VCALENDAR
VERSION:2.0
PRODID:-//Coconino Center for the Arts - ECPv6.15.20//NONSGML v1.0//EN
CALSCALE:GREGORIAN
METHOD:PUBLISH
X-WR-CALNAME:Coconino Center for the Arts
X-ORIGINAL-URL:https://coconinoarts.org
X-WR-CALDESC:Events for Coconino Center for the Arts
REFRESH-INTERVAL;VALUE=DURATION:PT1H
X-Robots-Tag:noindex
X-PUBLISHED-TTL:PT1H
BEGIN:VTIMEZONE
TZID:America/Phoenix
BEGIN:STANDARD
TZOFFSETFROM:-0700
TZOFFSETTO:-0700
TZNAME:MST
DTSTART:20250101T000000
END:STANDARD
END:VTIMEZONE
BEGIN:VEVENT
DTSTART;TZID=America/Phoenix:20260509T193000
DTEND;TZID=America/Phoenix:20260509T213000
DTSTAMP:20260423T030127
CREATED:20260414T183046Z
LAST-MODIFIED:20260414T183649Z
UID:10000705-1778355000-1778362200@coconinoarts.org
SUMMARY:S.E. Willis & Friends
DESCRIPTION:An evening of Flagstaff blues \n\n\n\n\nBack in Flagstaff in 1969 musicians worked in just a few places: fraternity parties\, high school dances and the Oddfellows Underground on Arrowhead\, a teen dance hall in the basement. We all played there. (There were country bands at the Museum Club\, but no love for teenage rockers) \nMy band was the Vanilla Doorknob\, a psychedelic name for a pretty conservative small town dance band. The other band was the Sympler Form\, with Donny Roberts on guitar and Isidro Padilla on vocals. They were the bad boys\, south side characters who played a lot of underground material. They were covering the Velvet Underground’s Heroin for heaven’s sake! \nIsidro moved on\, lineups changed\, but Donny and I were pals and 17 years old then. Word got out that there was a new singer in town\, an older guy from New York City who had been in the Army in Germany. That was Frank Manhardt and I remember watching him at the Underground. \nHe stuck around\, bands changed\, and he and Donny became locally famous as Freaky Frank and the Pistons. Big crowds for them down at Shaky Jake’s\, the Zanzucchi family’s bar on South San Francisco. Then they moved to Tucson and did really well there as Straight Shot and the Frank and Woody Show. \nDonny moved to Nashville and became a top studio musician\, working with Webb Wilder and\, famously\, playing guitar on Steve Earle’s Copperhead Road. \nI’ve been trying to think of something different to try at Coconino Center for the Arts. November’s “An Evening of Flagstaff Blues” with Tommy Dukes\, Bob Blasi\, Dale Caddell\, Roger Smith\, Chuck Curry and Greg Varlotta was quite successful\, selling out for standing room only. Plans are being made for a Fall repeat\, but on May 9 Roger Smith and I will be hosting a smaller gathering with Frank Manhardt (Freaky Frank) and Donny Roberts. Other guests to be announced. \nThis show will be more eclectic\, not so Blues focused\, with more Americana and even Country elements. We’re having a party 60 years in the making! I know most folks in Northern Arizona weren’t around in 1969 or even ’76\, but I’m inviting you to come out and see what a lifetime of experience playing American music can achieve! Let’s have some fun!
URL:https://coconinoarts.org/event/s-e-willis-friends/
LOCATION:Coconino Center for the Arts\, 2300 North Fort Valley Road\, Flagstaff\, AZ\, 86001\, United States
CATEGORIES:Concerts,Events
ATTACH;FMTTYPE=image/jpeg:https://coconinoarts.org/wp-content/uploads/2026/04/S.E.Willis-IBC.jpg
ORGANIZER;CN="Coconino Center for the Arts":MAILTO:CCA@creativeflagstaff.org
END:VEVENT
END:VCALENDAR