BEGIN:VCALENDAR
VERSION:2.0
PRODID:-//Coconino Center for the Arts - ECPv6.15.20//NONSGML v1.0//EN
CALSCALE:GREGORIAN
METHOD:PUBLISH
X-WR-CALNAME:Coconino Center for the Arts
X-ORIGINAL-URL:https://coconinoarts.org
X-WR-CALDESC:Events for Coconino Center for the Arts
REFRESH-INTERVAL;VALUE=DURATION:PT1H
X-Robots-Tag:noindex
X-PUBLISHED-TTL:PT1H
BEGIN:VTIMEZONE
TZID:America/Phoenix
BEGIN:STANDARD
TZOFFSETFROM:-0700
TZOFFSETTO:-0700
TZNAME:MST
DTSTART:20250101T000000
END:STANDARD
END:VTIMEZONE
BEGIN:VEVENT
DTSTART;TZID=America/Phoenix:20260423T180000
DTEND;TZID=America/Phoenix:20260423T190000
DTSTAMP:20260423T014840
CREATED:20260402T203407Z
LAST-MODIFIED:20260402T203407Z
UID:10000700-1776967200-1776970800@coconinoarts.org
SUMMARY:Guest Speaker Dora Rodriguez
DESCRIPTION:Dora Rodríguez\, who almost perished in the Arizona desert while fleeing the civil war in El Salvador\, will read and talk about her recently published memoir\, Dora: A Daughter of Unforgiving Terrain. Dora’s survival helped spark the Sanctuary Movement and led to her boundless passion for humanitarian aid and immigrants’ rights.
URL:https://coconinoarts.org/event/guest-speaker-dora-rodriguez/
LOCATION:AZ
CATEGORIES:Events,Exhibitions
ATTACH;FMTTYPE=image/jpeg:https://coconinoarts.org/wp-content/uploads/2026/04/Dora-R.-Headshot-.jpg
ORGANIZER;CN="Coconino Center for the Arts":MAILTO:CCA@creativeflagstaff.org
END:VEVENT
END:VCALENDAR