BEGIN:VCALENDAR
VERSION:2.0
PRODID:-//Coconino Center for the Arts - ECPv6.15.20//NONSGML v1.0//EN
CALSCALE:GREGORIAN
METHOD:PUBLISH
X-WR-CALNAME:Coconino Center for the Arts
X-ORIGINAL-URL:https://coconinoarts.org
X-WR-CALDESC:Events for Coconino Center for the Arts
REFRESH-INTERVAL;VALUE=DURATION:PT1H
X-Robots-Tag:noindex
X-PUBLISHED-TTL:PT1H
BEGIN:VTIMEZONE
TZID:America/Phoenix
BEGIN:STANDARD
TZOFFSETFROM:-0700
TZOFFSETTO:-0700
TZNAME:MST
DTSTART:20250101T000000
END:STANDARD
END:VTIMEZONE
BEGIN:VEVENT
DTSTART;TZID=America/Phoenix:20260418T170000
DTEND;TZID=America/Phoenix:20260418T200000
DTSTAMP:20260423T014841
CREATED:20260402T202700Z
LAST-MODIFIED:20260407T160000Z
UID:10000699-1776531600-1776542400@coconinoarts.org
SUMMARY:EVER PRESENT: Guillermo Galindo & José Luis Sotero Opening Reception
DESCRIPTION:5:00 – 6:00pm Members Preview\n6:00pm Artists’ Talk\n6:00 – 8:00pm Public Reception \nEVER PRESENT: Guillermo Galindo & José Luis Sotero presents two Mexican artists whose work reflects upon their experiences of migration. Guillermo Galindo (San Francisco\, CA)\, an acclaimed Mexican-born artist and U.S. citizen\, composer\, and performer\, shares his newest project Sonic Biogenesis\, an installation commenting on genetics\, mobility\, and the environment. José Luis Sotero (Nogales\, Sonora\, MX)\, a self-taught Mexican painter\, presents his recent paintings El lado oscuro de la migracion (the dark side of migration) using pictorial surrealism to depict the stories of people who seek refuge from violence and poverty in hope of a better life. While both artists have long worked with themes of migration\, their work reflects distinctly different perspectives and expressions. This exhibition is mindful of the important role of immigration at the center of the American experience\, and current conversations on immigration taking place in the U.S.\, with increased awareness in border states such as Arizona.
URL:https://coconinoarts.org/event/ever-present-guillermo-galindo-jose-luis-sotero-opening-reception/
LOCATION:AZ
CATEGORIES:Events,Exhibitions
ATTACH;FMTTYPE=image/jpeg:https://coconinoarts.org/wp-content/uploads/2026/04/CCA_Sotero_Galindo.jpg
ORGANIZER;CN="Coconino Center for the Arts":MAILTO:CCA@creativeflagstaff.org
END:VEVENT
END:VCALENDAR