BEGIN:VCALENDAR
VERSION:2.0
PRODID:-//Coconino Center for the Arts - ECPv6.15.20//NONSGML v1.0//EN
CALSCALE:GREGORIAN
METHOD:PUBLISH
X-WR-CALNAME:Coconino Center for the Arts
X-ORIGINAL-URL:https://coconinoarts.org
X-WR-CALDESC:Events for Coconino Center for the Arts
REFRESH-INTERVAL;VALUE=DURATION:PT1H
X-Robots-Tag:noindex
X-PUBLISHED-TTL:PT1H
BEGIN:VTIMEZONE
TZID:America/Phoenix
BEGIN:STANDARD
TZOFFSETFROM:-0700
TZOFFSETTO:-0700
TZNAME:MST
DTSTART:20250101T000000
END:STANDARD
END:VTIMEZONE
BEGIN:VEVENT
DTSTART;TZID=America/Phoenix:20260409T170000
DTEND;TZID=America/Phoenix:20260409T210000
DTSTAMP:20260423T014840
CREATED:20260318T173536Z
LAST-MODIFIED:20260318T194912Z
UID:10000691-1775754000-1775768400@coconinoarts.org
SUMMARY:The Wild Dark: An Evening with Craig Childs
DESCRIPTION:Buy Tickets\n\n\n\n\n“The Wild Dark” Author and storyteller Craig Childs takes us on a wild journey to find the darkest of the night skies. \n\n\n\n\nThe Wild Dark: An Evening with Craig Childs\nCoconino Center for the Arts \nStep into the dark and see the night sky the way it was meant to be seen. \nJoin acclaimed author and storyteller Craig Childs for a visual and spoken-word journey into the world’s last truly dark places. Based on his award-winning book The Wild Dark\, this special program blends immersive imagery\, storytelling\, and science-meets-wonder as Craig tracks the deepest night skies\, the wildlife that depends on them\, and what we lose when darkness disappears. \nIf you love the Southwest\, big landscapes\, astronomy\, and stories that make you feel small in the best way\, this night is for you. \nSchedule \n\nDoors: 5:00 PM\nShow: 6:00 PM\nLocation: Coconino Center for the Arts\n\nVIP Passholders\nYour VIP Pass includes access to this event. No additional ticket needed. \nAbout the book\nCraig’s newest work\, The Wild Dark\, is the winner of the John Burroughs Medal\, Southwest Book of the Year Award\, and the Banff Mountain Book Award in Environmental Literature. \nPraise for The Wild Dark\n“Enchanting\, mournful yet hopeful.”\n— Booklist (starred review) \n“Once this book has had its way with you\, you’ll throw down your bag\, ditch the headlamp\, and turn off that damn phone. You’ll revert to the thing we were meant to be\, wide-eyed and wild\, to the bone.”\n— Amy Irvine \nTickets are limited. This event is expected to sell out\, so grab yours early.
URL:https://coconinoarts.org/event/the-wild-dark-an-evening-with-craig-childs/
LOCATION:Coconino Center for the Arts\, 2300 North Fort Valley Road\, Flagstaff\, AZ\, 86001\, United States
CATEGORIES:Events
ATTACH;FMTTYPE=image/jpeg:https://coconinoarts.org/wp-content/uploads/2026/03/Craig-Childs-US-Letter-size-public-poster-to-print-with-QR-Code.jpeg
ORGANIZER;CN="Coconino Center for the Arts":MAILTO:CCA@creativeflagstaff.org
END:VEVENT
END:VCALENDAR